Workbook

Sheet export
B1: Malzeme Kodu | D1: Eski Malzeme Kodu | E1: Malzeme Açıklama | F1: Birim Adı | G1: Para Birimi Adı | H1: 2026 fiyat | I1: Kutu İçi Miktar | J1: ONKA-
A2: ONKA-1010221 | B2: 1010221 | C2: ONKA-1294 | D2: 1294 | E2: MTK 10mm² VİDA BAĞLANTILI TOPRAKLAMA RAY KLEMENSİ KAMUFLAJ | F2: AD | G2: Türk Lirası | H2: 233.25 | I2: 100
A3: ONKA-1010001 | B3: 1010001 | C3: ONKA-1001 | D3: 1001 | E3: MRK 1,5mm² VİDA BAĞLANTILI RAY KLEMENS ORİJİNAL | F3: AD | G3: Türk Lirası | H3: 34 | I3: 100
A4: ONKA-1010002 | B4: 1010002 | C4: ONKA-1002 | D4: 1002 | E4: MRK 1,5mm² VİDA BAĞLANTILI RAY KLEMENS GRİ | F4: AD | G4: Türk Lirası | H4: 34 | I4: 100
A5: ONKA-1010003 | B5: 1010003 | C5: ONKA-1003 | D5: 1003 | E5: MRK 1,5mm² VİDA BAĞLANTILI RAY KLEMENS KREM | F5: AD | G5: Türk Lirası | H5: 34 | I5: 100
A6: ONKA-1010004 | B6: 1010004 | C6: ONKA-1004 | D6: 1004 | E6: MRK 1,5mm² VİDA BAĞLANTILI RAY KLEMENS SİYAH | F6: AD | G6: Türk Lirası | H6: 34 | I6: 100
A7: ONKA-1010005 | B7: 1010005 | C7: ONKA-1005 | D7: 1005 | E7: MRK 1,5mm² VİDA BAĞLANTILI RAY KLEMENS MAVİ | F7: AD | G7: Türk Lirası | H7: 34 | I7: 100
A8: ONKA-1010006 | B8: 1010006 | C8: ONKA-1006 | D8: 1006 | E8: MRK 1,5mm² VİDA BAĞLANTILI RAY KLEMENS KAHVERENGİ | F8: AD | G8: Türk Lirası | H8: 34 | I8: 100
A9: ONKA-1010007 | B9: 1010007 | C9: ONKA-1007 | D9: 1007 | E9: MRK 1,5mm² VİDA BAĞLANTILI RAY KLEMENS KIRMIZI | F9: AD | G9: Türk Lirası | H9: 34 | I9: 100
A10: ONKA-1010008 | B10: 1010008 | C10: ONKA-1008 | D10: 1008 | E10: MRK 1,5mm² VİDA BAĞLANTILI RAY KLEMENS SARI | F10: AD | G10: Türk Lirası | H10: 34 | I10: 100
A11: ONKA-1010009 | B11: 1010009 | C11: ONKA-1009 | D11: 1009 | E11: MRK 1,5mm² VİDA BAĞLANTILI RAY KLEMENS YEŞİL | F11: AD | G11: Türk Lirası | H11: 34 | I11: 100
A12: ONKA-1010555 | B12: 1010555 | C12: ONKA-1700 | D12: 1700 | E12: MRK 1,5mm² VİDA BAĞLANTILI RAY KLEMENS KAMUFLAJ | F12: AD | G12: Türk Lirası | H12: 34 | I12: 100
A13: ONKA-1010011 | B13: 1010011 | C13: ONKA-1011 | D13: 1011 | E13: MRK 2,5mm² VİDA BAĞLANTILI RAY KLEMENS ORİJİNAL | F13: AD | G13: Türk Lirası | H13: 35.65 | I13: 100
... A896: ONKA-1020322 | B896: 1020322 | C896: ONKA-1439 | D896: 1439 | E896: MPK-2,5mm² YAY BAĞLANTILI KÖPRÜLÜ MİNİ RAY KLEMENS YEŞİL | F896: AD | G896: Türk Lirası | H896: 0 | I896: 0
A897: ONKA-1020323 | B897: 1020323 | C897: ONKA-1432-2 | D897: 1432-2 | E897: MPK-2,5mm² YAY BAĞLANTILI KÖPRÜLÜ MİNİ RAY KLEMENS 2Lİ GRİ | F897: AD | G897: Türk Lirası | H897: 0 | I897: 100
A898: ONKA-1020324 | B898: 1020324 | C898: ONKA-1432-3 | D898: 1432-3 | E898: MPK-2,5mm² YAY BAĞLANTILI KÖPRÜLÜ MİNİ RAY KLEMENS 3LÜ GRİ | F898: AD | G898: Türk Lirası | H898: 0 | I898: 100
A899: ONKA-1020325 | B899: 1020325 | C899: ONKA-1432-5 | D899: 1432-5 | E899: MPK-2,5mm² YAY BAĞLANTILI KÖPRÜLÜ MİNİ RAY KLEMENS 5Lİ GRİ | F899: AD | G899: Türk Lirası | H899: 0 | I899: 100
A900: ONKA-1020326 | B900: 1020326 | C900: ONKA-1461 | D900: 1461 | E900: MPK 2,5mm² YAY BAĞLANTILI MİNİ RAY KLEMENS ORİJİNAL | F900: AD | G900: Türk Lirası | H900: 33.4 | I900: 100
A901: ONKA-1020327 | B901: 1020327 | C901: ONKA-1462 | D901: 1462 | E901: MPK 2,5mm² YAY BAĞLANTILI MİNİ RAY KLEMENS GRİ | F901: AD | G901: Türk Lirası | H901: 33.4 | I901: 100
A902: ONKA-1020328 | B902: 1020328 | C902: ONKA-1463 | D902: 1463 | E902: MPK 2,5mm² YAY BAĞLANTILI MİNİ RAY KLEMENS KREM | F902: AD | G902: Türk Lirası | H902: 33.4 | I902: 100
A903: ONKA-1020329 | B903: 1020329 | C903: ONKA-1464 | D903: 1464 | E903: MPK 2,5mm² YAY BAĞLANTILI MİNİ RAY KLEMENS SİYAH | F903: AD | G903: Türk Lirası | H903: 33.4 | I903: 100
A904: ONKA-1020330 | B904: 1020330 | C904: ONKA-1465 | D904: 1465 | E904: MPK 2,5mm² YAY BAĞLANTILI MİNİ RAY KLEMENS MAVİ | F904: AD | G904: Türk Lirası | H904: 33.4 | I904: 100
A905: ONKA-1020331 | B905: 1020331 | C905: ONKA-1466 | D905: 1466 | E905: MPK 2,5mm² YAY BAĞLANTILI MİNİ RAY KLEMENS KAHVERENGİ | F905: AD | G905: Türk Lirası | H905: 33.4 | I905: 100
A906: ONKA-1020332 | B906: 1020332 | C906: ONKA-1467 | D906: 1467 | E906: MPK 2,5mm² YAY BAĞLANTILI MİNİ RAY KLEMENS KIRMIZI | F906: AD | G906: Türk Lirası | H906: 33.4 | I906: 100
A907: ONKA-1020333 | B907: 1020333 | C907: ONKA-1468 | D907: 1468 | E907: MPK 2,5mm² YAY BAĞLANTILI MİNİ RAY KLEMENS SARI | F907: AD | G907: Türk Lirası | H907: 33.4 | I907: 100
A908: ONKA-1020334 | B908: 1020334 | C908: ONKA-1469 | D908: 1469 | E908: MPK 2,5mm² YAY BAĞLANTILI MİNİ RAY KLEMENS YEŞİL | F908: AD | G908: Türk Lirası | H908: 33.4 | I908: 100
A909: ONKA-1020335 | B909: 1020335 | C909: ONKA-1470 | D909: 1470 | E909: MPK-2,5mm² YAY BAĞLANTILI TOPRAKLAMA MİNİ RAY KLEMENS KAMUFLAJ | F909: AD | G909: Türk Lirası | H909: 37.2 | I909: 100
A910: ONKA-1020336 | B910: 1020336 | C910: ONKA-5641 | D910: 5641 | E910: MPK 2,5mm² YAY BAĞLANTILI 1 GİRİŞ 1 ÇIKIŞ BUAT İÇİ MİNİ RAY KLEMENS GRİ | F910: AD | G910: Türk Lirası | H910: 0 | I910: 50
A911: ONKA-1020337 | B911: 1020337 | C911: ONKA-5642 | D911: 5642 | E911: MPK 2,5mm² YAY BAĞLANTILI 1 GİRİŞ 1 ÇIKIŞ BUAT İÇİ MİNİ RAY KLEMENS KREM | F911: AD | G911: Türk Lirası | H911: 0 | I911: 50
... A1350: ONKA-1020823 | B1350: 1020823 | C1350: ONKA-1819 | D1350: 1819 | E1350: OPK SLIM 2,5mm² YAY BAĞLANTILI RAY KLEMENS KAMUFLAJ | F1350: AD | G1350: Türk Lirası | H1350: 42.8 | I1350: 100
A1351: ONKA-1020824 | B1351: 1020824 | C1351: ONKA-1835 | D1351: 1835 | E1351: OPK SLIM 2,5mm² YAY BAĞLANTILI RAY KLEMENS V0 ORİJİNAL | G1351: Türk Lirası | H1351: 44.45 | I1351: 100
A1352: ONKA-1020825 | B1352: 1020825 | C1352: ONKA-1836 | D1352: 1836 | E1352: OPK SLIM 2,5mm² YAY BAĞLANTILI RAY KLEMENS V0 GRİ | F1352: AD | G1352: Türk Lirası | H1352: 44.45 | I1352: 100
A1353: ONKA-1020826 | B1353: 1020826 | C1353: ONKA-1837 | D1353: 1837 | E1353: OPK SLIM 2,5mm² YAY BAĞLANTILI RAY KLEMENS V0 KREM | G1353: Türk Lirası | H1353: 44.45 | I1353: 100
A1354: ONKA-1020827 | B1354: 1020827 | C1354: ONKA-1838 | D1354: 1838 | E1354: OPK SLIM 2,5mm² YAY BAĞLANTILI RAY KLEMENS V0 SİYAH | G1354: Türk Lirası | H1354: 44.45 | I1354: 100
A1355: ONKA-1020828 | B1355: 1020828 | C1355: ONKA-1839 | D1355: 1839 | E1355: OPK SLIM 2,5mm² YAY BAĞLANTILI RAY KLEMENS V0 MAVİ | G1355: Türk Lirası | H1355: 44.45 | I1355: 100
A1356: ONKA-1020829 | B1356: 1020829 | C1356: ONKA-1840 | D1356: 1840 | E1356: OPK SLIM 2,5mm² YAY BAĞLANTILI RAY KLEMENS V0 KAHVERENGİ | G1356: Türk Lirası | H1356: 44.45 | I1356: 100
A1357: ONKA-1020831 | B1357: 1020831 | C1357: ONKA-1842 | D1357: 1842 | E1357: OPK SLIM 2,5mm² YAY BAĞLANTILI RAY KLEMENS V0 SARI | G1357: Türk Lirası | H1357: 44.45 | I1357: 100
A1358: ONKA-1020832 | B1358: 1020832 | C1358: ONKA-1843 | D1358: 1843 | E1358: OPK SLIM 2,5mm² YAY BAĞLANTILI RAY KLEMENS V0 YEŞİL | G1358: Türk Lirası | H1358: 44.45 | I1358: 100
A1359: ONKA-1020833 | B1359: 1020833 | C1359: ONKA-1844 | D1359: 1844 | E1359: OPK SLIM 2,5mm² YAY BAĞLANTILI RAY KLEMENS V0 KAMUFLAJ | F1359: AD | G1359: Türk Lirası | H1359: 44.45 | I1359: 100
A1360: ONKA-1020834 | B1360: 1020834 | C1360: ONKA-1832 | D1360: 1832 | E1360: OPK-T 1,5 mm² YAY BAĞLANTILI TOPRAKLAMA RAY KLEMENSİ KAMUFLAJ | F1360: AD | G1360: Türk Lirası | H1360: 134.55 | I1360: 100
...

Sheet Sayfa1
A1: Malzeme Kodu | B1: Malzeme Adı | C1: Stok | D1: Birim
A2: ... | B2: .... | D2: AD | E2: =VLOOKUP(A2,export!A:H,8,0) -> #N/A | F2: =VLOOKUP(A2,export!A:G,7,0) -> #N/A
A3: .730.1" SOMUN | B3: SOMUN 1" PARMAK | D3: AD | E3: =VLOOKUP(A3,export!A:H,8,0) -> #N/A | F3: =VLOOKUP(A3,export!A:G,7,0) -> #N/A
A4: .730.1/2 HOLE Q6 | B4: ISISO 1/2 FOR HEAD İNSİDE HOLE Q6 | C4: 6522 | D4: AD | E4: =VLOOKUP(A4,export!A:H,8,0) -> #N/A | F4: =VLOOKUP(A4,export!A:G,7,0) -> #N/A
A5: .730.1/2 HOLE Q8 | B5: ISISO 1/2 FOR HEAD İNSİDE HOLE Q8 | C5: 4421 | D5: AD | E5: =VLOOKUP(A5,export!A:H,8,0) -> #N/A | F5: =VLOOKUP(A5,export!A:G,7,0) -> #N/A
A6: .730.1/2 SOMUN | B6: SOMUN 1/2 | D6: AD | E6: =VLOOKUP(A6,export!A:H,8,0) -> #N/A | F6: =VLOOKUP(A6,export!A:G,7,0) -> #N/A
A7: .730.1/2-3/4 | B7: 1/2-3/4 RAKORLU | D7: AD | E7: =VLOOKUP(A7,export!A:H,8,0) -> #N/A | F7: =VLOOKUP(A7,export!A:G,7,0) -> #N/A
A8: .730.1/2-3/4 SC | B8: 1/2-3/4 RAKORLU SOKET | C8: 1954 | D8: AD | E8: =VLOOKUP(A8,export!A:H,8,0) -> #N/A | F8: =VLOOKUP(A8,export!A:G,7,0) -> #N/A
A9: .730.1/4 SOMUN | B9: SOMUN 1/4 | D9: AD | E9: =VLOOKUP(A9,export!A:H,8,0) -> #N/A | F9: =VLOOKUP(A9,export!A:G,7,0) -> #N/A
A10: .730.1/4-1/4 | B10: 1/4-1/4 RAKOR | C10: 180 | D10: AD | E10: =VLOOKUP(A10,export!A:H,8,0) -> #N/A | F10: =VLOOKUP(A10,export!A:G,7,0) -> #N/A
A11: .730.1/8 SOMUN | B11: SOMUN 1/8 | D11: AD | E11: =VLOOKUP(A11,export!A:H,8,0) -> #N/A | F11: =VLOOKUP(A11,export!A:G,7,0) -> #N/A
A12: .730.3/4 SOMUN | B12: SOMUN 3/4 | D12: AD | E12: =VLOOKUP(A12,export!A:H,8,0) -> #N/A | F12: =VLOOKUP(A12,export!A:G,7,0) -> #N/A
A13: .730.3/8 SOMUN | B13: SOMUN 3/8 | D13: AD | E13: =VLOOKUP(A13,export!A:H,8,0) -> #N/A | F13: =VLOOKUP(A13,export!A:G,7,0) -> #N/A
A14: .730.3/8*28 | B14: ISISO ITH DİŞLİ DİRSEK 3/8 | D14: AD | E14: =VLOOKUP(A14,export!A:H,8,0) -> #N/A | F14: =VLOOKUP(A14,export!A:G,7,0) -> #N/A
A15: .730.4*0.3*110 | B15: ISISO İTH Q4 110mm PASLANMAZ UÇ | C15: 1871 | D15: AD | E15: =VLOOKUP(A15,export!A:H,8,0) -> #N/A | F15: =VLOOKUP(A15,export!A:G,7,0) -> #N/A
A16: .730.4.5*3+3.8*27 | B16: ISISO İTH Q4.5mm UÇ | C16: 10000 | D16: AD | E16: =VLOOKUP(A16,export!A:H,8,0) -> #N/A | F16: =VLOOKUP(A16,export!A:G,7,0) -> #N/A
A17: .730.46X6 KÖŞE | B17: 46X6 KÖŞE 303 PASLANMAZ | C17: 1 | D17: MT | E17: =VLOOKUP(A17,export!A:H,8,0) -> #N/A | F17: =VLOOKUP(A17,export!A:G,7,0) -> #N/A
A18: .730.6*30+8*2+6*10 | B18: ISISO İTH Q6 PASLANMAZ UÇ | C18: 2036 | D18: AD | E18: =VLOOKUP(A18,export!A:H,8,0) -> #N/A | F18: =VLOOKUP(A18,export!A:G,7,0) -> #N/A
A19: .730.8*12+6*15 | B19: ISISO İTH Q8 PASLANMAZ UÇ | C19: 6073 | D19: AD | E19: =VLOOKUP(A19,export!A:H,8,0) -> #N/A | F19: =VLOOKUP(A19,export!A:G,7,0) -> #N/A
A20: .730.BR Q10 | B20: PASLANMAZ BORU ÇUBUK | C20: 0.445 | D20: MT | E20: =VLOOKUP(A20,export!A:H,8,0) -> #N/A | F20: =VLOOKUP(A20,export!A:G,7,0) -> #N/A
A21: .730.BR Q10 DOLU | B21: PASLANMAZ DOLU MALZEME ÇUBUK | C21: 7 | D21: MT | E21: =VLOOKUP(A21,export!A:H,8,0) -> #N/A | F21: =VLOOKUP(A21,export!A:G,7,0) -> #N/A
A22: .730.BR Q12 | B22: PASLANMAZ BORU ÇUBUK | C22: 0.045 | D22: MT | E22: =VLOOKUP(A22,export!A:H,8,0) -> #N/A | F22: =VLOOKUP(A22,export!A:G,7,0) -> #N/A
A23: .730.BR Q12 DOLU | B23: PASLANMAZ DOLU MALZEME ÇUBUK | C23: 5 | D23: MT | E23: =VLOOKUP(A23,export!A:H,8,0) -> #N/A | F23: =VLOOKUP(A23,export!A:G,7,0) -> #N/A
A24: .730.BR Q14 | B24: PASLANMAZ BORU ÇUBUK | C24: 3.9 | D24: MT | E24: =VLOOKUP(A24,export!A:H,8,0) -> #N/A | F24: =VLOOKUP(A24,export!A:G,7,0) -> #N/A
A25: .730.BR Q14 6KÖŞE | B25: PASLANMAZ Q14 6KÖŞE DOLU MALZEME ÇUBUK | C25: 3 | D25: MT | E25: =VLOOKUP(A25,export!A:H,8,0) -> #N/A | F25: =VLOOKUP(A25,export!A:G,7,0) -> #N/A
A26: .730.BR Q14 DOLU | B26: PASLANMAZ DOLU MALZEME ÇUBUK | C26: 1 | D26: MT | E26: =VLOOKUP(A26,export!A:H,8,0) -> #N/A | F26: =VLOOKUP(A26,export!A:G,7,0) -> #N/A
... A29: .730.BR Q16 DOLU | B29: PASLANMAZ DOLU MALZEME ÇUBUK | C29: 0.3 | D29: MT | E29: =VLOOKUP(A29,export!A:H,8,0) -> #N/A | F29: =VLOOKUP(A29,export!A:G,7,0) -> #N/A
A30: .730.BR Q16*2 | B30: PASLANMAZ BORU ÇUBUK ÇAP16 2MM 310S | D30: MT | E30: =VLOOKUP(A30,export!A:H,8,0) -> #N/A | F30: =VLOOKUP(A30,export!A:G,7,0) -> #N/A
A31: .730.BR Q17 6KÖŞE | B31: PASLANMAZ Q17 6KÖŞE DOLU MALZEME ÇUBUK | D31: MT | E31: =VLOOKUP(A31,export!A:H,8,0) -> #N/A | F31: =VLOOKUP(A31,export!A:G,7,0) -> #N/A
A32: .730.BR Q18 | B32: PASLANMAZ BORU ÇUBUK | C32: 0.5 | D32: MT | E32: =VLOOKUP(A32,export!A:H,8,0) -> #N/A | F32: =VLOOKUP(A32,export!A:G,7,0) -> #N/A
A33: .730.BR Q18 DOLU | B33: PASLANMAZ DOLU MALZEME ÇUBUK | C33: 2.5 | D33: MT | E33: =VLOOKUP(A33,export!A:H,8,0) -> #N/A | F33: =VLOOKUP(A33,export!A:G,7,0) -> #N/A
A34: .730.BR Q19 6KÖŞE | B34: PASLANMAZ Q19 6KÖŞE DOLU MALZEME ÇUBUK | C34: 2 | D34: MT | E34: =VLOOKUP(A34,export!A:H,8,0) -> #N/A | F34: =VLOOKUP(A34,export!A:G,7,0) -> #N/A
A35: .730.BR Q20 | B35: PASLANMAZ BORU ÇUBUK | C35: 3.55 | D35: MT | E35: =VLOOKUP(A35,export!A:H,8,0) -> #N/A | F35: =VLOOKUP(A35,export!A:G,7,0) -> #N/A
A36: .730.BR Q20 DOLU | B36: PASLANMAZ DOLU MALZEME ÇUBUK | C36: 2 | D36: MT | E36: =VLOOKUP(A36,export!A:H,8,0) -> #N/A | F36: =VLOOKUP(A36,export!A:G,7,0) -> #N/A
A37: .730.BR Q20*2 | B37: PASLANMAZ BORU ÇUBUK ÇAP20 2MM 310S | C37: 15.5 | D37: MT | E37: =VLOOKUP(A37,export!A:H,8,0) -> #N/A | F37: =VLOOKUP(A37,export!A:G,7,0) -> #N/A
A38: .730.BR Q22 | B38: PASLANMAZ BORU ÇUBUK | C38: 7.5 | D38: MT | E38: =VLOOKUP(A38,export!A:H,8,0) -> #N/A | F38: =VLOOKUP(A38,export!A:G,7,0) -> #N/A
A39: .730.BR Q22 6KÖŞE | B39: PASLANMAZ Q22 6KÖŞE DOLU MALZEME ÇUBUK | C39: 1.8 | D39: MT | E39: =VLOOKUP(A39,export!A:H,8,0) -> #N/A | F39: =VLOOKUP(A39,export!A:G,7,0) -> #N/A
A40: .730.BR Q24 6KÖŞE | B40: PASLANMAZ Q24 6KÖŞE DOLU MALZEME ÇUBUK | C40: 1 | D40: MT | E40: =VLOOKUP(A40,export!A:H,8,0) -> #N/A | F40: =VLOOKUP(A40,export!A:G,7,0) -> #N/A
A41: .730.BR Q3 | B41: PASLANMAZ BORU ÇUBUK | C41: 2.193 | D41: MT | E41: =VLOOKUP(A41,export!A:H,8,0) -> #N/A | F41: =VLOOKUP(A41,export!A:G,7,0) -> #N/A
A42: .730.BR Q30 6KÖŞE | B42: PASLANMAZ Q30 6KÖŞE DOLU MALZEME ÇUBUK | C42: 2.5 | D42: MT | E42: =VLOOKUP(A42,export!A:H,8,0) -> #N/A | F42: =VLOOKUP(A42,export!A:G,7,0) -> #N/A
...

Sheet Sayfa2
A1: ONKA0001 | B1: ONKA M6 4-6 KAYNAKLI TİP SKP | C1: ONKA-102028 | F1: 1 | G1: 0.216 | H1: ADET
A2: ONKA0002 | B2: ONKA DİYOT KARTI | C2: ONKA-103-EDM12 | F2: 160 | G2: 655 | H2: ADET
A3: ONKA0003 | B3: ONKA PABUÇ | C3: ONKA-8049 | F3: 1 | G3: 0.078 | H3: ADET
A4: ONKA0004 | B4: ONKA PABUÇ | C4: ONKA-8095 | F4: 1 | G4: 0.179 | H4: ADET
A5: ONKA0005 | B5: ONKA GÜÇ DAĞITIM BLOĞU | C5: ONK-125 | F5: 160 | G5: 248.3 | H5: ADET
A6: ONKA0006 | B6: ONKA GÜÇ DAĞITIM BLOĞU | C6: ONK-250 | F6: 160 | G6: 59.1 | H6: ADET
A7: ONKA0007 | B7: ONKA GÜÇ DAĞITIM BLOĞU | C7: ONK-80 | F7: 160 | G7: 400.05 | H7: ADET
A8: ONKA0008 | B8: ONKA MRK 1,5 LUK KLEMENS SİYAH | C8: ONKA-1004 | F8: 160 | G8: 34 | H8: ADET
A9: ONKA0009 | B9: ONKA MRK 1,5 LUK KLEMENS MAVİ | C9: ONKA-1005 | F9: 160 | G9: 34 | H9: ADET
A10: ONKA0010 | B10: ONKA MRK 1,5 LUK KLEMENS KIRMIZI | C10: ONKA-1007 | F10: 160 | G10: 34 | H10: ADET
A11: ONKA0011 | B11: ONKA MRK 1,5 LUK KLEMENS SARI | C11: ONKA-1008 | F11: 160 | G11: 34 | H11: ADET
A12: ONKA0012 | B12: ONKA MRK 1,5 LUK KLEMENS YEŞİL | C12: ONKA-1009 | F12: 160 | G12: 34 | H12: ADET
... A172: ONKA0172 | B172: ONKA NO:1 MAVİ SIRA KLEMENS | C172: ONKA-1070016 | F172: 160 | G172: 71.85 | H172: ADET
