Workbook

Sheet export
B1: Malzeme Kodu | D1: Eski Malzeme Kodu | E1: Malzeme Açıklama | F1: Birim Adı | G1: Para Birimi Adı | H1: 2026 fiyat | I1: Kutu İçi Miktar | J1: ONKA-
A2: ONKA-1010221 | B2: 1010221 | C2: ONKA-1294 | D2: 1294 | E2: MTK 10mm² VİDA BAĞLANTILI TOPRAKLAMA RAY KLEMENSİ KAMUFLAJ | F2: AD | G2: Türk Lirası | H2: 233.25 | I2: 100
A3: ONKA-1010001 | B3: 1010001 | C3: ONKA-1001 | D3: 1001 | E3: MRK 1,5mm² VİDA BAĞLANTILI RAY KLEMENS ORİJİNAL | F3: AD | G3: Türk Lirası | H3: 34 | I3: 100
A4: ONKA-1010002 | B4: 1010002 | C4: ONKA-1002 | D4: 1002 | E4: MRK 1,5mm² VİDA BAĞLANTILI RAY KLEMENS GRİ | F4: AD | G4: Türk Lirası | H4: 34 | I4: 100
A5: ONKA-1010003 | B5: 1010003 | C5: ONKA-1003 | D5: 1003 | E5: MRK 1,5mm² VİDA BAĞLANTILI RAY KLEMENS KREM | F5: AD | G5: Türk Lirası | H5: 34 | I5: 100
A6: ONKA-1010004 | B6: 1010004 | C6: ONKA-1004 | D6: 1004 | E6: MRK 1,5mm² VİDA BAĞLANTILI RAY KLEMENS SİYAH | F6: AD | G6: Türk Lirası | H6: 34 | I6: 100
A7: ONKA-1010005 | B7: 1010005 | C7: ONKA-1005 | D7: 1005 | E7: MRK 1,5mm² VİDA BAĞLANTILI RAY KLEMENS MAVİ | F7: AD | G7: Türk Lirası | H7: 34 | I7: 100
A8: ONKA-1010006 | B8: 1010006 | C8: ONKA-1006 | D8: 1006 | E8: MRK 1,5mm² VİDA BAĞLANTILI RAY KLEMENS KAHVERENGİ | F8: AD | G8: Türk Lirası | H8: 34 | I8: 100
A9: ONKA-1010007 | B9: 1010007 | C9: ONKA-1007 | D9: 1007 | E9: MRK 1,5mm² VİDA BAĞLANTILI RAY KLEMENS KIRMIZI | F9: AD | G9: Türk Lirası | H9: 34 | I9: 100
A10: ONKA-1010008 | B10: 1010008 | C10: ONKA-1008 | D10: 1008 | E10: MRK 1,5mm² VİDA BAĞLANTILI RAY KLEMENS SARI | F10: AD | G10: Türk Lirası | H10: 34 | I10: 100
A11: ONKA-1010009 | B11: 1010009 | C11: ONKA-1009 | D11: 1009 | E11: MRK 1,5mm² VİDA BAĞLANTILI RAY KLEMENS YEŞİL | F11: AD | G11: Türk Lirası | H11: 34 | I11: 100
A12: ONKA-1010555 | B12: 1010555 | C12: ONKA-1700 | D12: 1700 | E12: MRK 1,5mm² VİDA BAĞLANTILI RAY KLEMENS KAMUFLAJ | F12: AD | G12: Türk Lirası | H12: 34 | I12: 100
A13: ONKA-1010011 | B13: 1010011 | C13: ONKA-1011 | D13: 1011 | E13: MRK 2,5mm² VİDA BAĞLANTILI RAY KLEMENS ORİJİNAL | F13: AD | G13: Türk Lirası | H13: 35.65 | I13: 100
... A896: ONKA-1020322 | B896: 1020322 | C896: ONKA-1439 | D896: 1439 | E896: MPK-2,5mm² YAY BAĞLANTILI KÖPRÜLÜ MİNİ RAY KLEMENS YEŞİL | F896: AD | G896: Türk Lirası | H896: 0 | I896: 0
A897: ONKA-1020323 | B897: 1020323 | C897: ONKA-1432-2 | D897: 1432-2 | E897: MPK-2,5mm² YAY BAĞLANTILI KÖPRÜLÜ MİNİ RAY KLEMENS 2Lİ GRİ | F897: AD | G897: Türk Lirası | H897: 0 | I897: 100
A898: ONKA-1020324 | B898: 1020324 | C898: ONKA-1432-3 | D898: 1432-3 | E898: MPK-2,5mm² YAY BAĞLANTILI KÖPRÜLÜ MİNİ RAY KLEMENS 3LÜ GRİ | F898: AD | G898: Türk Lirası | H898: 0 | I898: 100
A899: ONKA-1020325 | B899: 1020325 | C899: ONKA-1432-5 | D899: 1432-5 | E899: MPK-2,5mm² YAY BAĞLANTILI KÖPRÜLÜ MİNİ RAY KLEMENS 5Lİ GRİ | F899: AD | G899: Türk Lirası | H899: 0 | I899: 100
A900: ONKA-1020326 | B900: 1020326 | C900: ONKA-1461 | D900: 1461 | E900: MPK 2,5mm² YAY BAĞLANTILI MİNİ RAY KLEMENS ORİJİNAL | F900: AD | G900: Türk Lirası | H900: 33.4 | I900: 100
A901: ONKA-1020327 | B901: 1020327 | C901: ONKA-1462 | D901: 1462 | E901: MPK 2,5mm² YAY BAĞLANTILI MİNİ RAY KLEMENS GRİ | F901: AD | G901: Türk Lirası | H901: 33.4 | I901: 100
A902: ONKA-1020328 | B902: 1020328 | C902: ONKA-1463 | D902: 1463 | E902: MPK 2,5mm² YAY BAĞLANTILI MİNİ RAY KLEMENS KREM | F902: AD | G902: Türk Lirası | H902: 33.4 | I902: 100
A903: ONKA-1020329 | B903: 1020329 | C903: ONKA-1464 | D903: 1464 | E903: MPK 2,5mm² YAY BAĞLANTILI MİNİ RAY KLEMENS SİYAH | F903: AD | G903: Türk Lirası | H903: 33.4 | I903: 100
A904: ONKA-1020330 | B904: 1020330 | C904: ONKA-1465 | D904: 1465 | E904: MPK 2,5mm² YAY BAĞLANTILI MİNİ RAY KLEMENS MAVİ | F904: AD | G904: Türk Lirası | H904: 33.4 | I904: 100
A905: ONKA-1020331 | B905: 1020331 | C905: ONKA-1466 | D905: 1466 | E905: MPK 2,5mm² YAY BAĞLANTILI MİNİ RAY KLEMENS KAHVERENGİ | F905: AD | G905: Türk Lirası | H905: 33.4 | I905: 100
A906: ONKA-1020332 | B906: 1020332 | C906: ONKA-1467 | D906: 1467 | E906: MPK 2,5mm² YAY BAĞLANTILI MİNİ RAY KLEMENS KIRMIZI | F906: AD | G906: Türk Lirası | H906: 33.4 | I906: 100
A907: ONKA-1020333 | B907: 1020333 | C907: ONKA-1468 | D907: 1468 | E907: MPK 2,5mm² YAY BAĞLANTILI MİNİ RAY KLEMENS SARI | F907: AD | G907: Türk Lirası | H907: 33.4 | I907: 100
A908: ONKA-1020334 | B908: 1020334 | C908: ONKA-1469 | D908: 1469 | E908: MPK 2,5mm² YAY BAĞLANTILI MİNİ RAY KLEMENS YEŞİL | F908: AD | G908: Türk Lirası | H908: 33.4 | I908: 100
A909: ONKA-1020335 | B909: 1020335 | C909: ONKA-1470 | D909: 1470 | E909: MPK-2,5mm² YAY BAĞLANTILI TOPRAKLAMA MİNİ RAY KLEMENS KAMUFLAJ | F909: AD | G909: Türk Lirası | H909: 37.2 | I909: 100
A910: ONKA-1020336 | B910: 1020336 | C910: ONKA-5641 | D910: 5641 | E910: MPK 2,5mm² YAY BAĞLANTILI 1 GİRİŞ 1 ÇIKIŞ BUAT İÇİ MİNİ RAY KLEMENS GRİ | F910: AD | G910: Türk Lirası | H910: 0 | I910: 50
A911: ONKA-1020337 | B911: 1020337 | C911: ONKA-5642 | D911: 5642 | E911: MPK 2,5mm² YAY BAĞLANTILI 1 GİRİŞ 1 ÇIKIŞ BUAT İÇİ MİNİ RAY KLEMENS KREM | F911: AD | G911: Türk Lirası | H911: 0 | I911: 50
... A1350: ONKA-1020823 | B1350: 1020823 | C1350: ONKA-1819 | D1350: 1819 | E1350: OPK SLIM 2,5mm² YAY BAĞLANTILI RAY KLEMENS KAMUFLAJ | F1350: AD | G1350: Türk Lirası | H1350: 42.8 | I1350: 100
A1351: ONKA-1020824 | B1351: 1020824 | C1351: ONKA-1835 | D1351: 1835 | E1351: OPK SLIM 2,5mm² YAY BAĞLANTILI RAY KLEMENS V0 ORİJİNAL | G1351: Türk Lirası | H1351: 44.45 | I1351: 100
A1352: ONKA-1020825 | B1352: 1020825 | C1352: ONKA-1836 | D1352: 1836 | E1352: OPK SLIM 2,5mm² YAY BAĞLANTILI RAY KLEMENS V0 GRİ | F1352: AD | G1352: Türk Lirası | H1352: 44.45 | I1352: 100
A1353: ONKA-1020826 | B1353: 1020826 | C1353: ONKA-1837 | D1353: 1837 | E1353: OPK SLIM 2,5mm² YAY BAĞLANTILI RAY KLEMENS V0 KREM | G1353: Türk Lirası | H1353: 44.45 | I1353: 100
A1354: ONKA-1020827 | B1354: 1020827 | C1354: ONKA-1838 | D1354: 1838 | E1354: OPK SLIM 2,5mm² YAY BAĞLANTILI RAY KLEMENS V0 SİYAH | G1354: Türk Lirası | H1354: 44.45 | I1354: 100
A1355: ONKA-1020828 | B1355: 1020828 | C1355: ONKA-1839 | D1355: 1839 | E1355: OPK SLIM 2,5mm² YAY BAĞLANTILI RAY KLEMENS V0 MAVİ | G1355: Türk Lirası | H1355: 44.45 | I1355: 100
A1356: ONKA-1020829 | B1356: 1020829 | C1356: ONKA-1840 | D1356: 1840 | E1356: OPK SLIM 2,5mm² YAY BAĞLANTILI RAY KLEMENS V0 KAHVERENGİ | G1356: Türk Lirası | H1356: 44.45 | I1356: 100
A1357: ONKA-1020831 | B1357: 1020831 | C1357: ONKA-1842 | D1357: 1842 | E1357: OPK SLIM 2,5mm² YAY BAĞLANTILI RAY KLEMENS V0 SARI | G1357: Türk Lirası | H1357: 44.45 | I1357: 100
A1358: ONKA-1020832 | B1358: 1020832 | C1358: ONKA-1843 | D1358: 1843 | E1358: OPK SLIM 2,5mm² YAY BAĞLANTILI RAY KLEMENS V0 YEŞİL | G1358: Türk Lirası | H1358: 44.45 | I1358: 100
A1359: ONKA-1020833 | B1359: 1020833 | C1359: ONKA-1844 | D1359: 1844 | E1359: OPK SLIM 2,5mm² YAY BAĞLANTILI RAY KLEMENS V0 KAMUFLAJ | F1359: AD | G1359: Türk Lirası | H1359: 44.45 | I1359: 100
A1360: ONKA-1020834 | B1360: 1020834 | C1360: ONKA-1832 | D1360: 1832 | E1360: OPK-T 1,5 mm² YAY BAĞLANTILI TOPRAKLAMA RAY KLEMENSİ KAMUFLAJ | F1360: AD | G1360: Türk Lirası | H1360: 134.55 | I1360: 100
A1361: ONKA-1020835 | B1361: 1020835 | C1361: ONKA-1833 | D1361: 1833 | E1361: OPK-T 2,5 mm² YAY BAĞLANTILI TOPRAKLAMA RAY KLEMENSİ KAMUFLAJ | F1361: AD | G1361: Türk Lirası | H1361: 144.8 | I1361: 100
A1362: ONKA-1020836 | B1362: 1020836 | C1362: ONKA-1834 | D1362: 1834 | E1362: OPK-T 6 mm² YAY BAĞLANTILI TOPRAKLAMA RAY KLEMENSİ KAMUFLAJ | F1362: AD | G1362: Türk Lirası | H1362: 260.55 | I1362: 100
A1363: ONKA-1020838 | B1363: 1020838 | C1363: ONKA-3501 | D1363: 3501 | E1363: MP 6 mm² YAY BAĞLANTILI BAŞTAN BESLEME MODÜLÜ GRİ | F1363: AD | G1363: Türk Lirası | H1363: 58.1 | I1363: 100
A1364: ONKA-1020840 | B1364: 1020840 | C1364: ONKA-3503 | D1364: 3503 | E1364: MP 6 mm² YAY BAĞLANTILI BAŞTAN BESLEME MODÜLÜ SİYAH | F1364: AD | G1364: Türk Lirası | H1364: 58.1 | I1364: 100
A1365: ONKA-1020841 | B1365: 1020841 | C1365: ONKA-3504 | D1365: 3504 | E1365: MP 6 mm² YAY BAĞLANTILI BAŞTAN BESLEME MODÜLÜ MAVİ | F1365: AD | G1365: Türk Lirası | H1365: 58.1 | I1365: 100
A1366: ONKA-1020842 | B1366: 1020842 | C1366: ONKA-3505 | D1366: 3505 | E1366: MP 6 mm² YAY BAĞLANTILI BAŞTAN BESLEME MODÜLÜ KAHVERENGİ | F1366: AD | G1366: Türk Lirası | H1366: 58.1 | I1366: 100
A1367: ONKA-1020843 | B1367: 1020843 | C1367: ONKA-3506 | D1367: 3506 | E1367: MP 6 mm² YAY BAĞLANTILI BAŞTAN BESLEME MODÜLÜ KIRMIZI | F1367: AD | G1367: Türk Lirası | H1367: 58.1 | I1367: 100
A1368: ONKA-1020845 | B1368: 1020845 | C1368: ONKA-3508 | D1368: 3508 | E1368: MP 6 mm² YAY BAĞLANTILI BAŞTAN BESLEME MODÜLÜ YEŞİL | F1368: AD | G1368: Türk Lirası | H1368: 58.1 | I1368: 100
A1369: ONKA-1020846 | B1369: 1020846 | C1369: ONKA-854 | D1369: 854 | E1369: OPK 1,5mm² SENSÖR KLEMENSİ GRİ | F1369: AD | G1369: Türk Lirası | H1369: 166.1 | I1369: 20
A1370: ONKA-1020847 | B1370: 1020847 | C1370: ONKA-855 | D1370: 855 | E1370: OPK 1,5mm² SENSÖR KLEMENSİ V0 GRİ | F1370: AD | G1370: Türk Lirası | H1370: 177.7 | I1370: 20
A1371: ONKA-1020848 | B1371: 1020848 | C1371: ONKA-856 | D1371: 856 | E1371: OPK 1,5mm² TOPRAKLI SENSÖR KLEMENSİ GRİ | G1371: Türk Lirası | H1371: 230 | I1371: 20
A1372: ONKA-1020849 | B1372: 1020849 | C1372: ONKA-857 | D1372: 857 | E1372: OPK 1,5mm² TOPRAKLI SENSÖR KLEMENSİ V0 GRİ | G1372: Türk Lirası | H1372: 243.6 | I1372: 20
A1373: ONKA-1020850 | B1373: 1020850 | C1373: ONKA-858 | D1373: 858 | E1373: OPK 1,5mm² PNP SENSÖR KLEMENSİ GRİ | F1373: AD | G1373: Türk Lirası | H1373: 490 | I1373: 20
A1374: ONKA-1020851 | B1374: 1020851 | C1374: ONKA-859 | D1374: 859 | E1374: OPK 1,5mm² PNP SENSÖR KLEMENSİ V0 GRİ | G1374: Türk Lirası | H1374: 504.3 | I1374: 20
A1375: ONKA-1020852 | B1375: 1020852 | C1375: ONKA-860 | D1375: 860 | E1375: OPK 1,5mm² NPN SENSÖR KLEMENSİ GRİ | F1375: AD | G1375: Türk Lirası | H1375: 490 | I1375: 20
A1376: ONKA-1020853 | B1376: 1020853 | C1376: ONKA-861 | D1376: 861 | E1376: OPK 1,5mm² NPN SENSÖR KLEMENSİ V0 GRİ | G1376: Türk Lirası | H1376: 504.3 | I1376: 20
A1377: ONKA-1020859 | B1377: 1020859 | C1377: ONKA- | E1377: OPK 2,5mm² YAY BAĞLANTILI İKİ KATLI MONOBLOK RAY KLEMENS KAMUFLAJ | F1377: AD | G1377: Türk Lirası | H1377: 91.3 | I1377: 50
A1378: ONKA-1020862 | B1378: 1020862 | C1378: ONKA-868 | D1378: 868 | E1378: OPK 2,5mm² YAY BAĞLANTILI ÜÇ KATLI MONOBLOK RAY KLEMENS KAMUFLAJ | F1378: AD | G1378: Türk Lirası | H1378: 280.2 | I1378: 50
A1379: ONKA-1020863 | B1379: 1020863 | C1379: ONKA-866 | D1379: 866 | E1379: OPK 2,5mm² YAY BAĞLANTILI İKİ KATLI B YÖNLÜ DİYOTLU MONOBLOK RAY KLM GRİ | F1379: AD | G1379: Türk Lirası | H1379: 215.6 | I1379: 50
A1380: ONKA-1020864 | B1380: 1020864 | C1380: ONKA-867 | D1380: 867 | E1380: OPK 4mm² YAY BAĞLANTILI İKİ KATLI B YÖNLÜ DİYOTLU MONOBLOK RAY KLM GRİ | F1380: AD | G1380: Türk Lirası | H1380: 245 | I1380: 50
A1381: ONKA-1020870 | B1381: 1020870 | C1381: ONKA-3519 | D1381: 3519 | E1381: OPK SLIM 2,5mm² YAY BAĞLANTILI İKİ KATLI MONOBLOK RAY KLEMENS ORİJİNAL | G1381: Türk Lirası | H1381: 81.5 | I1381: 50
A1382: ONKA-1020871 | B1382: 1020871 | C1382: ONKA-3520 | D1382: 3520 | E1382: OPK SLIM 2,5mm² YAY BAĞLANTILI İKİ KATLI MONOBLOK RAY KLEMENS GRİ | G1382: Türk Lirası | H1382: 81.5 | I1382: 50
A1383: ONKA-1020872 | B1383: 1020872 | C1383: ONKA-3521 | D1383: 3521 | E1383: OPK SLIM 2,5mm² YAY BAĞLANTILI İKİ KATLI MONOBLOK RAY KLEMENS KREM | G1383: Türk Lirası | H1383: 81.5 | I1383: 50
A1384: ONKA-1020873 | B1384: 1020873 | C1384: ONKA-3522 | D1384: 3522 | E1384: OPK SLIM 2,5mm² YAY BAĞLANTILI İKİ KATLI MONOBLOK RAY KLEMENS SİYAH | G1384: Türk Lirası | H1384: 81.5 | I1384: 50
A1385: ONKA-1020874 | B1385: 1020874 | C1385: ONKA-3523 | D1385: 3523 | E1385: OPK SLIM 2,5mm² YAY BAĞLANTILI İKİ KATLI MONOBLOK RAY KLEMENS MAVİ | G1385: Türk Lirası | H1385: 81.5 | I1385: 50
A1386: ONKA-1020875 | B1386: 1020875 | C1386: ONKA-3524 | D1386: 3524 | E1386: OPK SLIM 2,5mm² YAY BAĞLANTILI İKİ KATLI MONOBLOK RAY KLEMENS KAHVERENGİ | G1386: Türk Lirası | H1386: 81.5 | I1386: 50
A1387: ONKA-1020876 | B1387: 1020876 | C1387: ONKA-3525 | D1387: 3525 | E1387: OPK SLIM 2,5mm² YAY BAĞLANTILI İKİ KATLI MONOBLOK RAY KLEMENS KIRMIZI | G1387: Türk Lirası | H1387: 81.5 | I1387: 50
A1388: ONKA-1020877 | B1388: 1020877 | C1388: ONKA-3526 | D1388: 3526 | E1388: OPK SLIM 2,5mm² YAY BAĞLANTILI İKİ KATLI MONOBLOK RAY KLEMENS SARI | G1388: Türk Lirası | H1388: 81.5 | I1388: 50
A1389: ONKA-1020878 | B1389: 1020878 | C1389: ONKA-3527 | D1389: 3527 | E1389: OPK SLIM 2,5mm² YAY BAĞLANTILI İKİ KATLI MONOBLOK RAY KLEMENS YEŞİL | G1389: Türk Lirası | H1389: 81.5 | I1389: 50
A1390: ONKA-1020879 | B1390: 1020879 | C1390: ONKA-3528 | D1390: 3528 | E1390: OPK SLIM 2,5mm² YAY BAĞLANTILI İKİ KATLI KÖPRÜLÜ MONOBLOK RAY KLEMENS ORİJİNAL | G1390: Türk Lirası | H1390: 111.7 | I1390: 50
A1391: ONKA-1020880 | B1391: 1020880 | C1391: ONKA-3529 | D1391: 3529 | E1391: OPK SLIM 2,5mm² YAY BAĞLANTILI İKİ KATLI KÖPRÜLÜ MONOBLOK RAY KLEMENS GRİ | G1391: Türk Lirası | H1391: 111.7 | I1391: 50
A1392: ONKA-1020881 | B1392: 1020881 | C1392: ONKA-3530 | D1392: 3530 | E1392: OPK SLIM 2,5mm² YAY BAĞLANTILI İKİ KATLI KÖPRÜLÜ MONOBLOK RAY KLEMENS KREM | G1392: Türk Lirası | H1392: 111.7 | I1392: 50
... A1534: ONKA-1021025 | B1534: 1021025 | C1534: ONKA-3687 | D1534: 3687 | E1534: OPK SLIM 2,5mm² YAY BAĞLANTILI TOPRAKLI TEST KLM (2 GİRİŞ/2 ÇIKIŞ) V0 KAMUFLAJ | G1534: Türk Lirası | H1534: 143.8 | I1534: 50
A1535: ONKA-1030001 | B1535: 1030001 | C1535: ONKA-2301 | D1535: 2301 | E1535: MRK 25 mm² PAPUÇ BAĞLANTILI RAY KLEMENS (KAPAKLI) ORİJİNAL | F1535: AD | G1535: Türk Lirası | H1535: 450.5 | I1535: 10
A1536: ONKA-1030002 | B1536: 1030002 | C1536: ONKA-2302 | D1536: 2302 | E1536: MRK 25 mm² PAPUÇ BAĞLANTILI RAY KLEMENS (KAPAKLI) GRİ | F1536: AD | G1536: Türk Lirası | H1536: 450.5 | I1536: 10
A1537: ONKA-1030003 | B1537: 1030003 | C1537: ONKA-2303 | D1537: 2303 | E1537: MRK 25 mm² PAPUÇ BAĞLANTILI RAY KLEMENS (KAPAKLI) KREM | F1537: AD | G1537: Türk Lirası | H1537: 450.5 | I1537: 10
A1538: ONKA-1030004 | B1538: 1030004 | C1538: ONKA-2304 | D1538: 2304 | E1538: MRK 25 mm² PAPUÇ BAĞLANTILI RAY KLEMENS (KAPAKLI) SİYAH | F1538: AD | G1538: Türk Lirası | H1538: 450.5 | I1538: 10
A1539: ONKA-1030005 | B1539: 1030005 | C1539: ONKA-2305 | D1539: 2305 | E1539: MRK 25 mm² PAPUÇ BAĞLANTILI RAY KLEMENS (KAPAKLI) MAVİ | F1539: AD | G1539: Türk Lirası | H1539: 450.5 | I1539: 10
A1540: ONKA-1030006 | B1540: 1030006 | C1540: ONKA-2306 | D1540: 2306 | E1540: MRK 25 mm² PAPUÇ BAĞLANTILI RAY KLEMENS (KAPAKLI) KAHVERENGİ | F1540: AD | G1540: Türk Lirası | H1540: 450.5 | I1540: 10
A1541: ONKA-1030007 | B1541: 1030007 | C1541: ONKA-2307 | D1541: 2307 | E1541: MRK 25 mm² PAPUÇ BAĞLANTILI RAY KLEMENS (KAPAKLI) KIRMIZI | F1541: AD | G1541: Türk Lirası | H1541: 450.5 | I1541: 10
A1542: ONKA-1030008 | B1542: 1030008 | C1542: ONKA-2308 | D1542: 2308 | E1542: MRK 25 mm² PAPUÇ BAĞLANTILI RAY KLEMENS (KAPAKLI) SARI | F1542: AD | G1542: Türk Lirası | H1542: 450.5 | I1542: 10
A1543: ONKA-1030009 | B1543: 1030009 | C1543: ONKA-2309 | D1543: 2309 | E1543: MRK 25 mm² PAPUÇ BAĞLANTILI RAY KLEMENS (KAPAKLI) YEŞİL | F1543: AD | G1543: Türk Lirası | H1543: 450.5 | I1543: 10
A1544: ONKA-1030016 | B1544: 1030016 | C1544: ONKA-2321 | D1544: 2321 | E1544: MRK 35 mm² PAPUÇ BAĞLANTILI RAY KLEMENS (KAPAKLI) ORİJİNAL | F1544: AD | G1544: Türk Lirası | H1544: 492.3 | I1544: 10
A1545: ONKA-1030017 | B1545: 1030017 | C1545: ONKA-2322 | D1545: 2322 | E1545: MRK 35 mm² PAPUÇ BAĞLANTILI RAY KLEMENS (KAPAKLI) GRİ | F1545: AD | G1545: Türk Lirası | H1545: 492.3 | I1545: 10
A1546: ONKA-1030018 | B1546: 1030018 | C1546: ONKA-2323 | D1546: 2323 | E1546: MRK 35 mm² PAPUÇ BAĞLANTILI RAY KLEMENS (KAPAKLI) KREM | F1546: AD | G1546: Türk Lirası | H1546: 492.3 | I1546: 10
... A1649: ONKA-1040009 | B1649: 1040009 | C1649: ONKA-369 | D1649: 369 | E1649: HRK 2,5 mm² HİBRİT BAĞLANTILI RAY KLEMENS YEŞİL | F1649: AD | G1649: Türk Lirası | H1649: 42.9 | I1649: 100
A1650: ONKA-1040011 | B1650: 1040011 | C1650: ONKA- | E1650: HRK 6 mm² HİBRİT BAĞLANTILI RAY KLEMENS ORİJİNAL | F1650: AD | G1650: Türk Lirası | H1650: 80.55 | I1650: 100
A1651: ONKA-1040012 | B1651: 1040012 | C1651: ONKA-372 | D1651: 372 | E1651: HRK 6 mm² HİBRİT BAĞLANTILI RAY KLEMENS GRİ | F1651: AD | G1651: Türk Lirası | H1651: 80.55 | I1651: 100
A1652: ONKA-1040013 | B1652: 1040013 | C1652: ONKA-373 | D1652: 373 | E1652: HRK 6 mm² HİBRİT BAĞLANTILI RAY KLEMENS KREM | F1652: AD | G1652: Türk Lirası | H1652: 80.55 | I1652: 100
A1653: ONKA-1040014 | B1653: 1040014 | C1653: ONKA-374 | D1653: 374 | E1653: HRK 6 mm² HİBRİT BAĞLANTILI RAY KLEMENS SİYAH | F1653: AD | G1653: Türk Lirası | H1653: 80.55 | I1653: 100
A1654: ONKA-1040015 | B1654: 1040015 | C1654: ONKA-375 | D1654: 375 | E1654: HRK 6 mm² HİBRİT BAĞLANTILI RAY KLEMENS MAVİ | F1654: AD | G1654: Türk Lirası | H1654: 80.55 | I1654: 100
A1655: ONKA-1040016 | B1655: 1040016 | C1655: ONKA-376 | D1655: 376 | E1655: HRK 6 mm² HİBRİT BAĞLANTILI RAY KLEMENS KAHVERENGİ | F1655: AD | G1655: Türk Lirası | H1655: 80.55 | I1655: 100
A1656: ONKA-1040017 | B1656: 1040017 | C1656: ONKA-377 | D1656: 377 | E1656: HRK 6 mm² HİBRİT BAĞLANTILI RAY KLEMENS KIRMIZI | F1656: AD | G1656: Türk Lirası | H1656: 80.55 | I1656: 100
A1657: ONKA-1040018 | B1657: 1040018 | C1657: ONKA-378 | D1657: 378 | E1657: HRK 6 mm² HİBRİT BAĞLANTILI RAY KLEMENS SARI | F1657: AD | G1657: Türk Lirası | H1657: 80.55 | I1657: 100
A1658: ONKA-1040019 | B1658: 1040019 | C1658: ONKA-379 | D1658: 379 | E1658: HRK 6 mm² HİBRİT BAĞLANTILI RAY KLEMENS YEŞİL | F1658: AD | G1658: Türk Lirası | H1658: 80.55 | I1658: 100
A1659: ONKA-1040021 | B1659: 1040021 | C1659: ONKA-9 | D1659: 9 | E1659: HRK 2,5 mm² HİBRİT BAĞLANTILI RAY KLEMENS ORİJİNAL V0 | F1659: AD | G1659: Türk Lirası | H1659: 44.4 | I1659: 100
A1660: ONKA-1040022 | B1660: 1040022 | C1660: ONKA-332 | D1660: 332 | E1660: HRK 2,5 mm² HİBRİT BAĞLANTILI RAY KLEMENS GRİ V0 | F1660: AD | G1660: Türk Lirası | H1660: 44.4 | I1660: 100
A1661: ONKA-1040023 | B1661: 1040023 | C1661: ONKA-507 | D1661: 507 | E1661: HRK 2,5 mm² HİBRİT BAĞLANTILI RAY KLEMENS KREM V0 | F1661: AD | G1661: Türk Lirası | H1661: 44.4 | I1661: 100
A1662: ONKA-1040024 | B1662: 1040024 | C1662: ONKA-11 | D1662: 11 | E1662: HRK 2,5 mm² HİBRİT BAĞLANTILI RAY KLEMENS SİYAH V0 | F1662: AD | G1662: Türk Lirası | H1662: 44.4 | I1662: 100
... A2392: ONKA-1070333 | B2392: 1070333 | C2392: ONKA-5114 | D2392: 5114 | E2392: NO:1 2.5-4mm² PALETLİ PANO İÇİ YÜKSEK ISIYA DAYANIKLI SIRA KLEMENS SİYAH | F2392: AD | G2392: Türk Lirası | H2392: 0 | I2392: 50
...

Sheet Sayfa1
A1: Malzeme Kodu | B1: Malzeme Adı | C1: Stok | D1: Birim
A2: ... | B2: .... | D2: AD | E2: =VLOOKUP(A2,export!A:H,8,0) -> #N/A | F2: =VLOOKUP(A2,export!A:G,7,0) -> #N/A
A3: .730.1" SOMUN | B3: SOMUN 1" PARMAK | D3: AD | E3: =VLOOKUP(A3,export!A:H,8,0) -> #N/A | F3: =VLOOKUP(A3,export!A:G,7,0) -> #N/A
A4: .730.1/2 HOLE Q6 | B4: ISISO 1/2 FOR HEAD İNSİDE HOLE Q6 | C4: 6522 | D4: AD | E4: =VLOOKUP(A4,export!A:H,8,0) -> #N/A | F4: =VLOOKUP(A4,export!A:G,7,0) -> #N/A
A5: .730.1/2 HOLE Q8 | B5: ISISO 1/2 FOR HEAD İNSİDE HOLE Q8 | C5: 4421 | D5: AD | E5: =VLOOKUP(A5,export!A:H,8,0) -> #N/A | F5: =VLOOKUP(A5,export!A:G,7,0) -> #N/A
A6: .730.1/2 SOMUN | B6: SOMUN 1/2 | D6: AD | E6: =VLOOKUP(A6,export!A:H,8,0) -> #N/A | F6: =VLOOKUP(A6,export!A:G,7,0) -> #N/A
A7: .730.1/2-3/4 | B7: 1/2-3/4 RAKORLU | D7: AD | E7: =VLOOKUP(A7,export!A:H,8,0) -> #N/A | F7: =VLOOKUP(A7,export!A:G,7,0) -> #N/A
A8: .730.1/2-3/4 SC | B8: 1/2-3/4 RAKORLU SOKET | C8: 1954 | D8: AD | E8: =VLOOKUP(A8,export!A:H,8,0) -> #N/A | F8: =VLOOKUP(A8,export!A:G,7,0) -> #N/A
A9: .730.1/4 SOMUN | B9: SOMUN 1/4 | D9: AD | E9: =VLOOKUP(A9,export!A:H,8,0) -> #N/A | F9: =VLOOKUP(A9,export!A:G,7,0) -> #N/A
A10: .730.1/4-1/4 | B10: 1/4-1/4 RAKOR | C10: 180 | D10: AD | E10: =VLOOKUP(A10,export!A:H,8,0) -> #N/A | F10: =VLOOKUP(A10,export!A:G,7,0) -> #N/A
A11: .730.1/8 SOMUN | B11: SOMUN 1/8 | D11: AD | E11: =VLOOKUP(A11,export!A:H,8,0) -> #N/A | F11: =VLOOKUP(A11,export!A:G,7,0) -> #N/A
A12: .730.3/4 SOMUN | B12: SOMUN 3/4 | D12: AD | E12: =VLOOKUP(A12,export!A:H,8,0) -> #N/A | F12: =VLOOKUP(A12,export!A:G,7,0) -> #N/A
A13: .730.3/8 SOMUN | B13: SOMUN 3/8 | D13: AD | E13: =VLOOKUP(A13,export!A:H,8,0) -> #N/A | F13: =VLOOKUP(A13,export!A:G,7,0) -> #N/A
A14: .730.3/8*28 | B14: ISISO ITH DİŞLİ DİRSEK 3/8 | D14: AD | E14: =VLOOKUP(A14,export!A:H,8,0) -> #N/A | F14: =VLOOKUP(A14,export!A:G,7,0) -> #N/A
A15: .730.4*0.3*110 | B15: ISISO İTH Q4 110mm PASLANMAZ UÇ | C15: 1871 | D15: AD | E15: =VLOOKUP(A15,export!A:H,8,0) -> #N/A | F15: =VLOOKUP(A15,export!A:G,7,0) -> #N/A
A16: .730.4.5*3+3.8*27 | B16: ISISO İTH Q4.5mm UÇ | C16: 10000 | D16: AD | E16: =VLOOKUP(A16,export!A:H,8,0) -> #N/A | F16: =VLOOKUP(A16,export!A:G,7,0) -> #N/A
A17: .730.46X6 KÖŞE | B17: 46X6 KÖŞE 303 PASLANMAZ | C17: 1 | D17: MT | E17: =VLOOKUP(A17,export!A:H,8,0) -> #N/A | F17: =VLOOKUP(A17,export!A:G,7,0) -> #N/A
A18: .730.6*30+8*2+6*10 | B18: ISISO İTH Q6 PASLANMAZ UÇ | C18: 2036 | D18: AD | E18: =VLOOKUP(A18,export!A:H,8,0) -> #N/A | F18: =VLOOKUP(A18,export!A:G,7,0) -> #N/A
A19: .730.8*12+6*15 | B19: ISISO İTH Q8 PASLANMAZ UÇ | C19: 6073 | D19: AD | E19: =VLOOKUP(A19,export!A:H,8,0) -> #N/A | F19: =VLOOKUP(A19,export!A:G,7,0) -> #N/A
A20: .730.BR Q10 | B20: PASLANMAZ BORU ÇUBUK | C20: 0.445 | D20: MT | E20: =VLOOKUP(A20,export!A:H,8,0) -> #N/A | F20: =VLOOKUP(A20,export!A:G,7,0) -> #N/A
A21: .730.BR Q10 DOLU | B21: PASLANMAZ DOLU MALZEME ÇUBUK | C21: 7 | D21: MT | E21: =VLOOKUP(A21,export!A:H,8,0) -> #N/A | F21: =VLOOKUP(A21,export!A:G,7,0) -> #N/A
A22: .730.BR Q12 | B22: PASLANMAZ BORU ÇUBUK | C22: 0.045 | D22: MT | E22: =VLOOKUP(A22,export!A:H,8,0) -> #N/A | F22: =VLOOKUP(A22,export!A:G,7,0) -> #N/A
A23: .730.BR Q12 DOLU | B23: PASLANMAZ DOLU MALZEME ÇUBUK | C23: 5 | D23: MT | E23: =VLOOKUP(A23,export!A:H,8,0) -> #N/A | F23: =VLOOKUP(A23,export!A:G,7,0) -> #N/A
A24: .730.BR Q14 | B24: PASLANMAZ BORU ÇUBUK | C24: 3.9 | D24: MT | E24: =VLOOKUP(A24,export!A:H,8,0) -> #N/A | F24: =VLOOKUP(A24,export!A:G,7,0) -> #N/A
A25: .730.BR Q14 6KÖŞE | B25: PASLANMAZ Q14 6KÖŞE DOLU MALZEME ÇUBUK | C25: 3 | D25: MT | E25: =VLOOKUP(A25,export!A:H,8,0) -> #N/A | F25: =VLOOKUP(A25,export!A:G,7,0) -> #N/A
A26: .730.BR Q14 DOLU | B26: PASLANMAZ DOLU MALZEME ÇUBUK | C26: 1 | D26: MT | E26: =VLOOKUP(A26,export!A:H,8,0) -> #N/A | F26: =VLOOKUP(A26,export!A:G,7,0) -> #N/A
... A29: .730.BR Q16 DOLU | B29: PASLANMAZ DOLU MALZEME ÇUBUK | C29: 0.3 | D29: MT | E29: =VLOOKUP(A29,export!A:H,8,0) -> #N/A | F29: =VLOOKUP(A29,export!A:G,7,0) -> #N/A
A30: .730.BR Q16*2 | B30: PASLANMAZ BORU ÇUBUK ÇAP16 2MM 310S | D30: MT | E30: =VLOOKUP(A30,export!A:H,8,0) -> #N/A | F30: =VLOOKUP(A30,export!A:G,7,0) -> #N/A
A31: .730.BR Q17 6KÖŞE | B31: PASLANMAZ Q17 6KÖŞE DOLU MALZEME ÇUBUK | D31: MT | E31: =VLOOKUP(A31,export!A:H,8,0) -> #N/A | F31: =VLOOKUP(A31,export!A:G,7,0) -> #N/A
A32: .730.BR Q18 | B32: PASLANMAZ BORU ÇUBUK | C32: 0.5 | D32: MT | E32: =VLOOKUP(A32,export!A:H,8,0) -> #N/A | F32: =VLOOKUP(A32,export!A:G,7,0) -> #N/A
A33: .730.BR Q18 DOLU | B33: PASLANMAZ DOLU MALZEME ÇUBUK | C33: 2.5 | D33: MT | E33: =VLOOKUP(A33,export!A:H,8,0) -> #N/A | F33: =VLOOKUP(A33,export!A:G,7,0) -> #N/A
A34: .730.BR Q19 6KÖŞE | B34: PASLANMAZ Q19 6KÖŞE DOLU MALZEME ÇUBUK | C34: 2 | D34: MT | E34: =VLOOKUP(A34,export!A:H,8,0) -> #N/A | F34: =VLOOKUP(A34,export!A:G,7,0) -> #N/A
A35: .730.BR Q20 | B35: PASLANMAZ BORU ÇUBUK | C35: 3.55 | D35: MT | E35: =VLOOKUP(A35,export!A:H,8,0) -> #N/A | F35: =VLOOKUP(A35,export!A:G,7,0) -> #N/A
A36: .730.BR Q20 DOLU | B36: PASLANMAZ DOLU MALZEME ÇUBUK | C36: 2 | D36: MT | E36: =VLOOKUP(A36,export!A:H,8,0) -> #N/A | F36: =VLOOKUP(A36,export!A:G,7,0) -> #N/A
A37: .730.BR Q20*2 | B37: PASLANMAZ BORU ÇUBUK ÇAP20 2MM 310S | C37: 15.5 | D37: MT | E37: =VLOOKUP(A37,export!A:H,8,0) -> #N/A | F37: =VLOOKUP(A37,export!A:G,7,0) -> #N/A
A38: .730.BR Q22 | B38: PASLANMAZ BORU ÇUBUK | C38: 7.5 | D38: MT | E38: =VLOOKUP(A38,export!A:H,8,0) -> #N/A | F38: =VLOOKUP(A38,export!A:G,7,0) -> #N/A
A39: .730.BR Q22 6KÖŞE | B39: PASLANMAZ Q22 6KÖŞE DOLU MALZEME ÇUBUK | C39: 1.8 | D39: MT | E39: =VLOOKUP(A39,export!A:H,8,0) -> #N/A | F39: =VLOOKUP(A39,export!A:G,7,0) -> #N/A
A40: .730.BR Q24 6KÖŞE | B40: PASLANMAZ Q24 6KÖŞE DOLU MALZEME ÇUBUK | C40: 1 | D40: MT | E40: =VLOOKUP(A40,export!A:H,8,0) -> #N/A | F40: =VLOOKUP(A40,export!A:G,7,0) -> #N/A
A41: .730.BR Q3 | B41: PASLANMAZ BORU ÇUBUK | C41: 2.193 | D41: MT | E41: =VLOOKUP(A41,export!A:H,8,0) -> #N/A | F41: =VLOOKUP(A41,export!A:G,7,0) -> #N/A
A42: .730.BR Q30 6KÖŞE | B42: PASLANMAZ Q30 6KÖŞE DOLU MALZEME ÇUBUK | C42: 2.5 | D42: MT | E42: =VLOOKUP(A42,export!A:H,8,0) -> #N/A | F42: =VLOOKUP(A42,export!A:G,7,0) -> #N/A
A43: .730.BR Q36 6KÖŞE | B43: PASLANMAZ Q36 6KÖŞE DOLU MALZEME ÇUBUK | D43: MT | E43: =VLOOKUP(A43,export!A:H,8,0) -> #N/A | F43: =VLOOKUP(A43,export!A:G,7,0) -> #N/A
A44: .730.BR Q4 | B44: PASLANMAZ BORU ÇUBUK | C44: 0.072 | D44: MT | E44: =VLOOKUP(A44,export!A:H,8,0) -> #N/A | F44: =VLOOKUP(A44,export!A:G,7,0) -> #N/A
A45: .730.BR Q5 | B45: PASLANMAZ BORU ÇUBUK | C45: 0.037 | D45: MT | E45: =VLOOKUP(A45,export!A:H,8,0) -> #N/A | F45: =VLOOKUP(A45,export!A:G,7,0) -> #N/A
A46: .730.BR Q50 DOLU | B46: PASLANMAZ Q50 DOLU MALZEME ÇUBUK | D46: MT | E46: =VLOOKUP(A46,export!A:H,8,0) -> #N/A | F46: =VLOOKUP(A46,export!A:G,7,0) -> #N/A
A47: .730.BR Q6 | B47: PASLANMAZ BORU ÇUBUK | C47: 29.7815 | D47: MT | E47: =VLOOKUP(A47,export!A:H,8,0) -> #N/A | F47: =VLOOKUP(A47,export!A:G,7,0) -> #N/A
A48: .730.BR Q6 310 | B48: PASLANMAZ BORU ÇUBUK 310 | C48: 5 | D48: MT | E48: =VLOOKUP(A48,export!A:H,8,0) -> #N/A | F48: =VLOOKUP(A48,export!A:G,7,0) -> #N/A
A49: .730.BR Q8 | B49: PASLANMAZ BORU ÇUBUK | C49: 41.2945 | D49: MT | E49: =VLOOKUP(A49,export!A:H,8,0) -> #N/A | F49: =VLOOKUP(A49,export!A:G,7,0) -> #N/A
A50: .730.BR Q8 310 | B50: PASLANMAZ BORU ÇUBUK 310 | C50: 6 | D50: MT | E50: =VLOOKUP(A50,export!A:H,8,0) -> #N/A | F50: =VLOOKUP(A50,export!A:G,7,0) -> #N/A
A51: .730.BR Q8 DOLU | B51: PASLANMAZ DOLU MALZEME ÇUBUK | C51: 4.5 | D51: MT | E51: =VLOOKUP(A51,export!A:H,8,0) -> #N/A | F51: =VLOOKUP(A51,export!A:G,7,0) -> #N/A
A52: .730.BR Q9*1,50 | B52: PASLANMAZ BORU ÇUBUK ÇAP9 1,50MM 316 | C52: 2.5 | D52: MT | E52: =VLOOKUP(A52,export!A:H,8,0) -> #N/A | F52: =VLOOKUP(A52,export!A:G,7,0) -> #N/A
A53: .730.COD06 | B53: ISISO 0,6MM BAKIR TEL | C53: 2000 | D53: MT | E53: =VLOOKUP(A53,export!A:H,8,0) -> #N/A | F53: =VLOOKUP(A53,export!A:G,7,0) -> #N/A
A54: .730.CW | B54: MAKARA | D54: AD | E54: =VLOOKUP(A54,export!A:H,8,0) -> #N/A | F54: =VLOOKUP(A54,export!A:G,7,0) -> #N/A
A55: .730.Ç2 | B55: PT-1000 ÇEKİRDEĞİ | D55: AD | E55: =VLOOKUP(A55,export!A:H,8,0) -> #N/A | F55: =VLOOKUP(A55,export!A:G,7,0) -> #N/A
A56: .730.ETİKET | B56: ISISO ETİKET | C56: 71507 | D56: AD | E56: =VLOOKUP(A56,export!A:H,8,0) -> #N/A | F56: =VLOOKUP(A56,export!A:G,7,0) -> #N/A
A57: .730.FLANŞ | B57: ÇAP 120 FLANŞ | D57: AD | E57: =VLOOKUP(A57,export!A:H,8,0) -> #N/A | F57: =VLOOKUP(A57,export!A:G,7,0) -> #N/A
A58: .730.FÖY | B58: ISISO FÖY | C58: 71339 | D58: AD | E58: =VLOOKUP(A58,export!A:H,8,0) -> #N/A | F58: =VLOOKUP(A58,export!A:G,7,0) -> #N/A
A59: .730.G.D | B59: GAZ DİŞ | D59: AD | E59: =VLOOKUP(A59,export!A:H,8,0) -> #N/A | F59: =VLOOKUP(A59,export!A:G,7,0) -> #N/A
A60: .730.G1/4*19 | B60: ISISO İTH | D60: AD | E60: =VLOOKUP(A60,export!A:H,8,0) -> #N/A | F60: =VLOOKUP(A60,export!A:G,7,0) -> #N/A
A61: .730.IT_KAFA EXPROOF | B61: ISISO THERMOCOUPLE KAFASI (İTH) | C61: 127 | D61: AD | E61: =VLOOKUP(A61,export!A:H,8,0) -> #N/A | F61: =VLOOKUP(A61,export!A:G,7,0) -> #N/A
A62: .730.IT_KAFA MİDDLE SİZE | B62: ISISO ORTA BOY THERMOCOUPLE KAFASI (İTH) | C62: 476 | D62: AD | E62: =VLOOKUP(A62,export!A:H,8,0) -> #N/A | F62: =VLOOKUP(A62,export!A:G,7,0) -> #N/A
A63: .730.IT_KAFA SMALL SİZE | B63: ISISO KÜÇÜK BOY THERMOCOUPLE KAFASI (İTH) | C63: 97 | D63: AD | E63: =VLOOKUP(A63,export!A:H,8,0) -> #N/A | F63: =VLOOKUP(A63,export!A:G,7,0) -> #N/A
A64: .730.IT_KAFA STANDART | B64: ISISO STANDART BOY THERMOCOUPLE KAFASI (İTH) | D64: AD | E64: =VLOOKUP(A64,export!A:H,8,0) -> #N/A | F64: =VLOOKUP(A64,export!A:G,7,0) -> #N/A
A65: .730.IT_M222 | B65: ISISO PT-100 ÇEKİRDEĞİ (İTH) | C65: 1584 | D65: AD | E65: =VLOOKUP(A65,export!A:H,8,0) -> #N/A | F65: =VLOOKUP(A65,export!A:G,7,0) -> #N/A
A66: .730.IT_MİDDLE İNSİDE1 | B66: ISISO MİDDLE SİZE 1XPT100 PORSELEN | C66: 182 | D66: AD | E66: =VLOOKUP(A66,export!A:H,8,0) -> #N/A | F66: =VLOOKUP(A66,export!A:G,7,0) -> #N/A
A67: .730.IT_MİDDLE İNSİDE2 | B67: ISISO MİDDLE SİZE 2XPT100 PORSELEN | C67: 294 | D67: AD | E67: =VLOOKUP(A67,export!A:H,8,0) -> #N/A | F67: =VLOOKUP(A67,export!A:G,7,0) -> #N/A
A68: .730.IT_PT100 | B68: ISISO PT-100 ÇEKİRDEĞİ PORSELEN(ITH) | C68: 2150 | D68: AD | E68: =VLOOKUP(A68,export!A:H,8,0) -> #N/A | F68: =VLOOKUP(A68,export!A:G,7,0) -> #N/A
A69: .730.IT_PT1000 | B69: ISISO PT-1000 ÇEKİRDEĞİ | C69: 1705 | D69: AD | E69: =VLOOKUP(A69,export!A:H,8,0) -> #N/A | F69: =VLOOKUP(A69,export!A:G,7,0) -> #N/A
A70: .730.JELATİN | B70: ISISO JELATİN | C70: 72398 | D70: AD | E70: =VLOOKUP(A70,export!A:H,8,0) -> #N/A | F70: =VLOOKUP(A70,export!A:G,7,0) -> #N/A
A71: .730.K TİPİ 2MM TEL- | B71: 2 MM K TİPİ TEL- | C71: 8 | D71: MT | E71: =VLOOKUP(A71,export!A:H,8,0) -> #N/A | F71: =VLOOKUP(A71,export!A:G,7,0) -> #N/A
A72: .730.K TİPİ 2MM TEL+ | B72: 2 MM K TİPİ TEL+ | C72: 8 | D72: MT | E72: =VLOOKUP(A72,export!A:H,8,0) -> #N/A | F72: =VLOOKUP(A72,export!A:G,7,0) -> #N/A
A73: .730.K TİPİ TEL | B73: 1,5 MM K TİPİ TEL | C73: 1100 | D73: MT | E73: =VLOOKUP(A73,export!A:H,8,0) -> #N/A | F73: =VLOOKUP(A73,export!A:G,7,0) -> #N/A
A74: .730.K TİPİ TEL- | B74: 1 MM K TİPİ TEL- | C74: 200 | D74: MT | E74: =VLOOKUP(A74,export!A:H,8,0) -> #N/A | F74: =VLOOKUP(A74,export!A:G,7,0) -> #N/A
A75: .730.K TİPİ TEL+ | B75: 1 MM K TİPİ TEL + | C75: 200 | D75: MT | E75: =VLOOKUP(A75,export!A:H,8,0) -> #N/A | F75: =VLOOKUP(A75,export!A:G,7,0) -> #N/A
A76: .730.KAREMANİFOLT | B76: MANİFOLT | C76: 8478 | D76: AD | E76: =VLOOKUP(A76,export!A:H,8,0) -> #N/A | F76: =VLOOKUP(A76,export!A:G,7,0) -> #N/A
... A86: .730.KÇ11 | B86: ISISO 4*0,22 PT-100 ÇELİK ÖRGÜLÜ KABLO | C86: 2200 | D86: MT | E86: =VLOOKUP(A86,export!A:H,8,0) -> #N/A | F86: =VLOOKUP(A86,export!A:G,7,0) -> #N/A
A87: .730.KÇ12 | B87: ISISO 4*0,22 PT-100 (SİLİKON - SİLİKON) KABLO | D87: MT | E87: =VLOOKUP(A87,export!A:H,8,0) -> #N/A | F87: =VLOOKUP(A87,export!A:G,7,0) -> #N/A
A88: .730.KÇ14 | B88: ISISO 2*0,22 Nİ-CR-Nİ ÇELİK ÖRGÜ KABLO | C88: 14576.9 | D88: MT | E88: =VLOOKUP(A88,export!A:H,8,0) -> #N/A | F88: =VLOOKUP(A88,export!A:G,7,0) -> #N/A
A89: .730.KÇ15 | B89: ISISO 2*0,22 Nİ-CR-Nİ SİLİKON KABLO | C89: 5448 | D89: MT | E89: =VLOOKUP(A89,export!A:H,8,0) -> #N/A | F89: =VLOOKUP(A89,export!A:G,7,0) -> #N/A
A90: .730.KÇ16 | B90: ISISO 2*0.50 Nİ-CRNİ TEFLON MONO KABLO | C90: 6875 | D90: MT | E90: =VLOOKUP(A90,export!A:H,8,0) -> #N/A | F90: =VLOOKUP(A90,export!A:G,7,0) -> #N/A
A91: .730.KÇ17 | B91: ISISO 2*1,5 Nİ-CR-Nİ ÇELİK ÖRGÜ KABLO | C91: 6930 | D91: MT | E91: =VLOOKUP(A91,export!A:H,8,0) -> #N/A | F91: =VLOOKUP(A91,export!A:G,7,0) -> #N/A
A92: .730.KÇ18 | B92: ISISO 2*0,75 Nİ-CR-Nİ ÇELİK ÖRGÜ KABLO | C92: 16670 | D92: MT | E92: =VLOOKUP(A92,export!A:H,8,0) -> #N/A | F92: =VLOOKUP(A92,export!A:G,7,0) -> #N/A
A93: .730.KÇ21 | B93: ISISO 3*0,75 PT-100 ÇELİK ÖRGÜLÜ KABLO | C93: 10396 | D93: MT | E93: =VLOOKUP(A93,export!A:H,8,0) -> #N/A | F93: =VLOOKUP(A93,export!A:G,7,0) -> #N/A
A94: .730.KÇ27 | B94: ISISO 3*1,5 PT-100 ÇELİK ÖRGÜLÜ KABLO | C94: 1493 | D94: MT | E94: =VLOOKUP(A94,export!A:H,8,0) -> #N/A | F94: =VLOOKUP(A94,export!A:G,7,0) -> #N/A
A95: .730.KÇ28 | B95: ISISO 3*2,5 PT-100 ÇELİK ÖRGÜLÜ KABLO | C95: 2010 | D95: MT | E95: =VLOOKUP(A95,export!A:H,8,0) -> #N/A | F95: =VLOOKUP(A95,export!A:G,7,0) -> #N/A
A96: .730.KÇ29 | B96: 1*5MM FE-CONST TEL | D96: MT | E96: =VLOOKUP(A96,export!A:H,8,0) -> #N/A | F96: =VLOOKUP(A96,export!A:G,7,0) -> #N/A
A97: .730.KÇ30 | B97: ISISO 2x0,22 SLİKON +SLİKON NTC KABLO | C97: 3470 | D97: MT | E97: =VLOOKUP(A97,export!A:H,8,0) -> #N/A | F97: =VLOOKUP(A97,export!A:G,7,0) -> #N/A
A98: .730.KÇ31 | B98: ISISO 2x0,75 S TİPİ ÇELİK ÖRGÜLÜ KABLO | C98: 1500 | D98: MT | E98: =VLOOKUP(A98,export!A:H,8,0) -> #N/A | F98: =VLOOKUP(A98,export!A:G,7,0) -> #N/A
A99: .730.KÇ32 | B99: ISISO 2x1,5 S TİPİ ÇELİK ÖRGÜLÜ KABLO | C99: 1975 | D99: MT | E99: =VLOOKUP(A99,export!A:H,8,0) -> #N/A | F99: =VLOOKUP(A99,export!A:G,7,0) -> #N/A
A100: .730.KT 1/2 İÇ-DİŞLİ | B100: KÖR TAPA 1/2 | C100: 251 | D100: AD | E100: =VLOOKUP(A100,export!A:H,8,0) -> #N/A | F100: =VLOOKUP(A100,export!A:G,7,0) -> #N/A
A101: .730.KT 1/2-1/2 TRW | B101: KÖR TAPA 1/2-1/2 TRW | C101: 146 | D101: AD | E101: =VLOOKUP(A101,export!A:H,8,0) -> #N/A | F101: =VLOOKUP(A101,export!A:G,7,0) -> #N/A
A102: .730.KT 1/2-3/8 | B102: KÖR TAPA 1/2-3/8 PASLANMAZ | D102: AD | E102: =VLOOKUP(A102,export!A:H,8,0) -> #N/A | F102: =VLOOKUP(A102,export!A:G,7,0) -> #N/A
A103: .730.KT 1/4 P | B103: KÖR TAPA 1/4 PASLANMAZ | C103: 200 | D103: AD | E103: =VLOOKUP(A103,export!A:H,8,0) -> #N/A | F103: =VLOOKUP(A103,export!A:G,7,0) -> #N/A
A104: .730.KT 3/4 | B104: KÖR TAPA 3/4 | C104: 1319 | D104: AD | E104: =VLOOKUP(A104,export!A:H,8,0) -> #N/A | F104: =VLOOKUP(A104,export!A:G,7,0) -> #N/A
A105: .730.KT 3/4-3/8 TRW | B105: KÖR TAPA 3/4-3/8 TRW | C105: 16 | D105: AD | E105: =VLOOKUP(A105,export!A:H,8,0) -> #N/A | F105: =VLOOKUP(A105,export!A:G,7,0) -> #N/A
A106: .730.KT 3/8 | B106: KÖR TAPA 3/8 | C106: 69 | D106: AD | E106: =VLOOKUP(A106,export!A:H,8,0) -> #N/A | F106: =VLOOKUP(A106,export!A:G,7,0) -> #N/A
A107: .730.KT M10 P | B107: KÖR TAPA M10 PASLANMAZ | C107: 5178 | D107: AD | E107: =VLOOKUP(A107,export!A:H,8,0) -> #N/A | F107: =VLOOKUP(A107,export!A:G,7,0) -> #N/A
A108: .730.LPS DİŞ | B108: LPS DİŞ | C108: 104 | D108: AD | E108: =VLOOKUP(A108,export!A:H,8,0) -> #N/A | F108: =VLOOKUP(A108,export!A:G,7,0) -> #N/A
A109: .730.M | B109: MAKARON | C109: 5567.4346 | D109: MT | E109: =VLOOKUP(A109,export!A:H,8,0) -> #N/A | F109: =VLOOKUP(A109,export!A:G,7,0) -> #N/A
A110: .730.M10 | B110: METRİK 10 DİŞ | C110: 341 | D110: AD | E110: =VLOOKUP(A110,export!A:H,8,0) -> #N/A | F110: =VLOOKUP(A110,export!A:G,7,0) -> #N/A
A111: .730.M10*1.5 | B111: METRİK 10 DİŞ | D111: AD | E111: =VLOOKUP(A111,export!A:H,8,0) -> #N/A | F111: =VLOOKUP(A111,export!A:G,7,0) -> #N/A
...

Sheet Sayfa2
A1: ONKA0001 | B1: ONKA M6 4-6 KAYNAKLI TİP SKP | C1: ONKA-102028 | F1: 1 | G1: 0.216 | H1: ADET
A2: ONKA0002 | B2: ONKA DİYOT KARTI | C2: ONKA-103-EDM12 | F2: 160 | G2: 655 | H2: ADET
A3: ONKA0003 | B3: ONKA PABUÇ | C3: ONKA-8049 | F3: 1 | G3: 0.078 | H3: ADET
A4: ONKA0004 | B4: ONKA PABUÇ | C4: ONKA-8095 | F4: 1 | G4: 0.179 | H4: ADET
A5: ONKA0005 | B5: ONKA GÜÇ DAĞITIM BLOĞU | C5: ONK-125 | F5: 160 | G5: 248.3 | H5: ADET
A6: ONKA0006 | B6: ONKA GÜÇ DAĞITIM BLOĞU | C6: ONK-250 | F6: 160 | G6: 59.1 | H6: ADET
A7: ONKA0007 | B7: ONKA GÜÇ DAĞITIM BLOĞU | C7: ONK-80 | F7: 160 | G7: 400.05 | H7: ADET
A8: ONKA0008 | B8: ONKA MRK 1,5 LUK KLEMENS SİYAH | C8: ONKA-1004 | F8: 160 | G8: 34 | H8: ADET
A9: ONKA0009 | B9: ONKA MRK 1,5 LUK KLEMENS MAVİ | C9: ONKA-1005 | F9: 160 | G9: 34 | H9: ADET
A10: ONKA0010 | B10: ONKA MRK 1,5 LUK KLEMENS KIRMIZI | C10: ONKA-1007 | F10: 160 | G10: 34 | H10: ADET
A11: ONKA0011 | B11: ONKA MRK 1,5 LUK KLEMENS SARI | C11: ONKA-1008 | F11: 160 | G11: 34 | H11: ADET
A12: ONKA0012 | B12: ONKA MRK 1,5 LUK KLEMENS YEŞİL | C12: ONKA-1009 | F12: 160 | G12: 34 | H12: ADET
... A172: ONKA0172 | B172: ONKA NO:1 MAVİ SIRA KLEMENS | C172: ONKA-1070016 | F172: 160 | G172: 71.85 | H172: ADET
